BEGIN:VCALENDAR
VERSION:2.0
PRODID:spatie/icalendar-generator
DESCRIPTION:Évènements de Ville de Gerzat
X-WR-CALDESC:Évènements de Ville de Gerzat
REFRESH-INTERVAL;VALUE=DURATION:PT1440M
X-PUBLISHED-TTL:PT1440M
BEGIN:VTIMEZONE
TZID:Europe/Paris
BEGIN:STANDARD
DTSTART:20251026T030000Z
TZOFFSETFROM:+0200
TZOFFSETTO:+0100
END:STANDARD
BEGIN:DAYLIGHT
DTSTART:20260329T020000Z
TZOFFSETFROM:+0100
TZOFFSETTO:+0200
END:DAYLIGHT
BEGIN:STANDARD
DTSTART:20261025T030000Z
TZOFFSETFROM:+0200
TZOFFSETTO:+0100
END:STANDARD
END:VTIMEZONE
BEGIN:VTIMEZONE
TZID:UTC
BEGIN:STANDARD
DTSTART:20250727T101817Z
TZOFFSETFROM:+0000
TZOFFSETTO:+0000
END:STANDARD
END:VTIMEZONE
BEGIN:VEVENT
UID:1147-955
DTSTAMP:20260423T101817Z
SUMMARY:Exposition \" Éclosions \" par Flo-M - Artiste dessinatrice
LOCATION:Hall de l\\'Hôtel de Ville Place des Remparts  Gerzat  63360
ORGANIZER;CN=Cyril Chateau:MAILTO:cyril.chateau@ville-gerzat.fr
DTSTART;TZID=Europe/Paris;VALUE=DATE:20260401
DTEND;TZID=Europe/Paris;VALUE=DATE:20260404
X-ALT-DESC;FMTTYPE=TEXT/HTML:Dans le cadre de la saison culturelle 2025 - 2
 026\, retrouvez l'exposition \" Éclosions \" par Flo-M\, artiste dessinat
 rice\, du mercredi 1er avril au vendredi 29 mai 2026. • Vernissage le me
 rcredi 1er avril 2026 à 18 h 30 dans le hall de l’Hôtel de Ville de Ge
 rzat\, en présence de l'artiste • Exposition gratuite…
CATEGORIES:Culture
URL;VALUE=URI:https://www.ville-gerzat.fr/mc-events/exposition-eclosions-pa
 r-flo-m-artiste-dessinatrice/?mc_id=1147
END:VEVENT
BEGIN:VEVENT
UID:1137-945
DTSTAMP:20260423T101817Z
SUMMARY:📢 Sirène du SAIP 📢
LOCATION:
ORGANIZER;CN=Manon Klupinski:MAILTO:m.klupinski@ville-gerzat.fr
DTSTART;TZID=Europe/Paris:20260401T120000
DTEND;TZID=Europe/Paris:20260401T120500
X-ALT-DESC;FMTTYPE=TEXT/HTML:TEST du Système d'alerte et d'information des
  populations I SAIP Comme tous les premiers mercredis de chaque mois\, les
  sirènes #SAIP retentiront ce mercredi 4 mars à 12 h. Il ne s'agit bien 
 que d'un essai de fonctionnement. Retrouvez les significations des différ
 entes alertes : Connaissez-vous les comportements à adopter si ce signal 
 venait à…
CATEGORIES:General
URL;VALUE=URI:https://www.ville-gerzat.fr/my-calendar/?mc_id=1137
END:VEVENT
BEGIN:VEVENT
UID:1146-954
DTSTAMP:20260423T101817Z
SUMMARY:Vernissage - Exposition \" Éclosions \" par Flo-M - Artiste dessin
 atrice
LOCATION:Hall de l\\'Hôtel de Ville Place des Remparts  Gerzat  63360
ORGANIZER;CN=Cyril Chateau:MAILTO:cyril.chateau@ville-gerzat.fr
DTSTART;TZID=Europe/Paris:20260401T183000
DTEND;TZID=Europe/Paris:20260401T193000
X-ALT-DESC;FMTTYPE=TEXT/HTML:Dans le cadre de la saison culturelle 2025 - 2
 026\, retrouvez l'exposition \" Éclosions \" par Flo-M\, artiste dessinat
 rice\, du mercredi 1er avril au vendredi 29 mai 2026. • Vernissage le me
 rcredi 1er avril 2026 à 18 h 30 dans le hall de l’Hôtel de Ville de Ge
 rzat\, en présence de l'artiste • Exposition gratuite…
CATEGORIES:Culture
URL;VALUE=URI:https://www.ville-gerzat.fr/mc-events/vernissage-exposition-e
 closions-par-flo-m-artiste-dessinatrice/?mc_id=1146
END:VEVENT
BEGIN:VEVENT
UID:1147-955
DTSTAMP:20260423T101817Z
SUMMARY:Exposition \" Éclosions \" par Flo-M - Artiste dessinatrice
LOCATION:Hall de l\\'Hôtel de Ville Place des Remparts  Gerzat  63360
ORGANIZER;CN=Cyril Chateau:MAILTO:cyril.chateau@ville-gerzat.fr
DTSTART;TZID=Europe/Paris;VALUE=DATE:20260401
DTEND;TZID=Europe/Paris;VALUE=DATE:20260404
X-ALT-DESC;FMTTYPE=TEXT/HTML:Dans le cadre de la saison culturelle 2025 - 2
 026\, retrouvez l'exposition \" Éclosions \" par Flo-M\, artiste dessinat
 rice\, du mercredi 1er avril au vendredi 29 mai 2026. • Vernissage le me
 rcredi 1er avril 2026 à 18 h 30 dans le hall de l’Hôtel de Ville de Ge
 rzat\, en présence de l'artiste • Exposition gratuite…
CATEGORIES:Culture
URL;VALUE=URI:https://www.ville-gerzat.fr/mc-events/exposition-eclosions-pa
 r-flo-m-artiste-dessinatrice/?mc_id=1147
END:VEVENT
BEGIN:VEVENT
UID:1147-955
DTSTAMP:20260423T101817Z
SUMMARY:Exposition \" Éclosions \" par Flo-M - Artiste dessinatrice
LOCATION:Hall de l\\'Hôtel de Ville Place des Remparts  Gerzat  63360
ORGANIZER;CN=Cyril Chateau:MAILTO:cyril.chateau@ville-gerzat.fr
DTSTART;TZID=Europe/Paris;VALUE=DATE:20260401
DTEND;TZID=Europe/Paris;VALUE=DATE:20260404
X-ALT-DESC;FMTTYPE=TEXT/HTML:Dans le cadre de la saison culturelle 2025 - 2
 026\, retrouvez l'exposition \" Éclosions \" par Flo-M\, artiste dessinat
 rice\, du mercredi 1er avril au vendredi 29 mai 2026. • Vernissage le me
 rcredi 1er avril 2026 à 18 h 30 dans le hall de l’Hôtel de Ville de Ge
 rzat\, en présence de l'artiste • Exposition gratuite…
CATEGORIES:Culture
URL;VALUE=URI:https://www.ville-gerzat.fr/mc-events/exposition-eclosions-pa
 r-flo-m-artiste-dessinatrice/?mc_id=1147
END:VEVENT
BEGIN:VEVENT
UID:1157-958
DTSTAMP:20260423T101817Z
SUMMARY:Salon bien-être et artisanal
LOCATION:Le Galion Place Marcel Collange  Gerzat  63360
ORGANIZER;CN=Cyril Chateau:MAILTO:cyril.chateau@ville-gerzat.fr
DTSTART;TZID=Europe/Paris:20260404T130000
DTEND;TZID=Europe/Paris:20260404T220000
X-ALT-DESC;FMTTYPE=TEXT/HTML:L'association wedge production &amp;amp\; co vous 
 donne rendez-vous le samedi 4 avril de 13 h à 22 h et dimanche 5 avril de
  9 h  à 18 h pour son salon bien-être et artisanal « les 5 sens » 7e 
 édition du printemps à la salle du Galion à Gerzat Vous rencontrerez di
 vers exposants et…
CATEGORIES:Vie associative
URL;VALUE=URI:https://www.ville-gerzat.fr/my-calendar/?mc_id=1157
END:VEVENT
BEGIN:VEVENT
UID:1158-959
DTSTAMP:20260423T101817Z
SUMMARY:Salon bien-être et artisanal
LOCATION:Le Galion Place Marcel Collange  Gerzat  63360
ORGANIZER;CN=Cyril Chateau:MAILTO:cyril.chateau@ville-gerzat.fr
DTSTART;TZID=Europe/Paris:20260405T090000
DTEND;TZID=Europe/Paris:20260405T180000
X-ALT-DESC;FMTTYPE=TEXT/HTML:L'association wedge production &amp;amp\; co vous 
 donne rendez-vous le samedi 4 avril de 13 h à 22 h et dimanche 5 avril de
  9 h  à 18 h pour son salon bien-être et artisanal « les 5 sens » 7e 
 édition du printemps à la salle du Galion à Gerzat Vous rencontrerez di
 vers exposants et…
CATEGORIES:Vie associative
URL;VALUE=URI:https://www.ville-gerzat.fr/my-calendar/?mc_id=1158
END:VEVENT
BEGIN:VEVENT
UID:1148-956
DTSTAMP:20260423T101817Z
SUMMARY:Exposition \" Éclosions \" par Flo-M - Artiste dessinatrice
LOCATION:Hall de l\\'Hôtel de Ville Place des Remparts  Gerzat  63360
ORGANIZER;CN=Cyril Chateau:MAILTO:cyril.chateau@ville-gerzat.fr
RRULE:FREQ=WEEKLY;UNTIL=20260525T000000Z
DTSTART;TZID=Europe/Paris;VALUE=DATE:20260406
DTEND;TZID=Europe/Paris;VALUE=DATE:20260407
X-ALT-DESC;FMTTYPE=TEXT/HTML:Dans le cadre de la saison culturelle 2025 - 2
 026\, retrouvez l'exposition \" Éclosions \" par Flo-M\, artiste dessinat
 rice\, du mercredi 1er avril au vendredi 29 mai 2026. • Vernissage le me
 rcredi 1er avril 2026 à 18 h 30 dans le hall de l’Hôtel de Ville de Ge
 rzat\, en présence de l'artiste • Exposition gratuite…
CATEGORIES:Culture
URL;VALUE=URI:https://www.ville-gerzat.fr/mc-events/exposition-eclosions-pa
 r-flo-m-artiste-dessinatrice-2/?mc_id=1148
END:VEVENT
BEGIN:VEVENT
UID:1159-960
DTSTAMP:20260423T101817Z
SUMMARY:🐰🥚 Chasse aux œufs de Pâques
LOCATION:Parc de la Treille   Gerzat  63360
ORGANIZER;CN=Cyril Chateau:MAILTO:cyril.chateau@ville-gerzat.fr
DTSTART;TZID=Europe/Paris:20260406T100000
DTEND;TZID=Europe/Paris:20260406T120000
X-ALT-DESC;FMTTYPE=TEXT/HTML:🐰🥚 Chasse aux œufs de Pâques 🥚🐰 
 Le Comité des Fêtes Gerzatois vous invite à sa chasse aux œufs de Pâq
 ues\, lundi 6 avril 2026 de 10 h à 12 h puis de 14 h à 16 h au Parc de l
 a Treille ! Ouvert aux enfants jusqu'à 10 ans. Présence des parents souh
 aitée. Tarif…
CATEGORIES:Vie associative,  Enfance - Jeunesse
URL;VALUE=URI:https://www.ville-gerzat.fr/my-calendar/?mc_id=1159
END:VEVENT
BEGIN:VEVENT
UID:1160-961
DTSTAMP:20260423T101817Z
SUMMARY:🐰🥚 Chasse aux œufs de Pâques
LOCATION:Parc de la Treille   Gerzat  63360
ORGANIZER;CN=Cyril Chateau:MAILTO:cyril.chateau@ville-gerzat.fr
DTSTART;TZID=Europe/Paris:20260406T140000
DTEND;TZID=Europe/Paris:20260406T160000
X-ALT-DESC;FMTTYPE=TEXT/HTML:🐰🥚 Chasse aux œufs de Pâques 🥚🐰 
 Le Comité des Fêtes Gerzatois vous invite à sa chasse aux œufs de Pâq
 ues\, lundi 6 avril 2026 de 10 h à 12 h puis de 14 h à 16 h au Parc de l
 a Treille ! Ouvert aux enfants jusqu'à 10 ans. Présence des parents souh
 aitée. Tarif…
CATEGORIES:Vie associative,  Enfance - Jeunesse
URL;VALUE=URI:https://www.ville-gerzat.fr/my-calendar/?mc_id=1160
END:VEVENT
BEGIN:VEVENT
UID:1125-933
DTSTAMP:20260423T101817Z
SUMMARY:🚲 Permanence C.Vélo 🚲
LOCATION:Maison des associations Rue Léon Blum  Gerzat  63360
ORGANIZER;CN=Manon Klupinski:MAILTO:m.klupinski@ville-gerzat.fr
DTSTART;TZID=Europe/Paris:20260414T150000
DTEND;TZID=Europe/Paris:20260414T190000
X-ALT-DESC;FMTTYPE=TEXT/HTML:🚲 Permanence C.Vélo 🚲 Louez votre vélo
  à assistance électrique avec C.Vélo. Venez vous renseigner ! Vous pouv
 ez aussi joindre C.vélo au 04 73 92 65 08 ou consulter le site Internet w
 ww.c-velo.fr.
CATEGORIES:Mobilité
URL;VALUE=URI:https://www.ville-gerzat.fr/my-calendar/?mc_id=1125
END:VEVENT
BEGIN:VEVENT
UID:1161-962
DTSTAMP:20260423T101817Z
SUMMARY:Atelier \" Dessine des anmaux au stylo ! \"
LOCATION:Médiathèque Alphonse Daudet rue Moulin du Roy  Gerzat  63360
ORGANIZER;CN=Cyril Chateau:MAILTO:cyril.chateau@ville-gerzat.fr
DTSTART;TZID=Europe/Paris:20260418T101500
DTEND;TZID=Europe/Paris:20260418T121500
X-ALT-DESC;FMTTYPE=TEXT/HTML:Venez découvrir le dessin au stylo bic ! Cet 
 atelier animé par Florence (Flo-M) s'adresse aux novices comme aux plus a
 guerris. Elle vous accompagnera\, à l'aide de modèles\, à réaliser vot
 re animal. Cet atelier est proposé en partenariat avec la saison culturel
 le de Gerzat où vous pourrez retrouver l'exposition de Flo-M \" Éclosion
 s \" dans…
CATEGORIES:Culture
URL;VALUE=URI:https://www.ville-gerzat.fr/mc-events/atelier-dessine-des-anm
 aux-au-stylo/?mc_id=1161
END:VEVENT
BEGIN:VEVENT
UID:1142-950
DTSTAMP:20260423T101817Z
SUMMARY:France Services Café numérique ☕💻
LOCATION:Pôle social - CCAS 4 place Pommerol  Gerzat  63360
ORGANIZER;CN=Manon Klupinski:MAILTO:m.klupinski@ville-gerzat.fr
DTSTART;TZID=Europe/Paris:20260420T140000
DTEND;TZID=Europe/Paris:20260420T160000
X-ALT-DESC;FMTTYPE=TEXT/HTML:Les cafés numériques sont des moments France
  Services\, temps d'échange et de convivialité autour du numérique (san
 s de thème prédéfini). L'occasion de poser des questions\, partager des
  expériences et éventuellement découvrir de nouveaux usages.
CATEGORIES:Social
URL;VALUE=URI:https://www.ville-gerzat.fr/my-calendar/?mc_id=1142
END:VEVENT
BEGIN:VEVENT
UID:1163-964
DTSTAMP:20260423T101817Z
SUMMARY:♻🌍 Grand nettoyage de printemps
LOCATION:Voir dans le descriptif de l\\'évènement
ORGANIZER;CN=Cyril Chateau:MAILTO:cyril.chateau@ville-gerzat.fr
DTSTART;TZID=Europe/Paris:20260425T080000
DTEND;TZID=Europe/Paris:20260425T120000
X-ALT-DESC;FMTTYPE=TEXT/HTML:♻🌍 Grand nettoyage de printemps 🌍♻ V
 enez participer au grand nettoyage de printemps\, organisé par les Jeunes
  Engagés pour l'Environnement 63\, l'Association Agréée pour la Pêche 
 et la Protection du Milieu Aquatique\, \" l'Écologie\, c'est la vie \"\,
   l'École de Pêche\, Gerzat Espace Rural et la Municipalité de Gerzat 
 ! Point de rendez-vous aux Ateliers…
CATEGORIES:Environnement
URL;VALUE=URI:https://www.ville-gerzat.fr/my-calendar/?mc_id=1163
END:VEVENT
END:VCALENDAR